BEGIN:VCALENDAR
VERSION:2.0
PRODID:https://www.kufer.de/kuferweb / DE
METHOD:PUBLISH
CALSCALE:GREGORIAN
X-WR-TIMEZONE:Europe/Berlin
BEGIN:VTIMEZONE
TZID:Europe/Berlin
X-LIC-LOCATION:Europe/Berlin
BEGIN:DAYLIGHT
TZOFFSETFROM:+0100
TZOFFSETTO:+0200
TZNAME:CEST
DTSTART:19700329T020000
RRULE:FREQ=YEARLY;INTERVAL=1;BYDAY=-1SU;BYMONTH=3
END:DAYLIGHT
BEGIN:STANDARD
TZOFFSETFROM:+0200
TZOFFSETTO:+0100
TZNAME:CET
DTSTART:19701025T030000
RRULE:FREQ=YEARLY;INTERVAL=1;BYDAY=-1SU;BYMONTH=10
END:STANDARD
END:VTIMEZONE
BEGIN:VEVENT
DTSTAMP:20260425T164532
DTSTART;TZID=Europe/Berlin:20260414T163000
DTEND;TZID=Europe/Berlin:20260414T173000
UID:VG2050771-20260414T163000@VHSLANDKREIS FULDA
SUMMARY:Choreographisches Tanzen  + / - 60 (VG2050771) 
LOCATION:Eichenzell; von-Galen-Schule, Gymnastikraum, Munkenstr. 16, 36124 Eichenzell
END:VEVENT
BEGIN:VEVENT
DTSTAMP:20260425T164532
DTSTART;TZID=Europe/Berlin:20260421T163000
DTEND;TZID=Europe/Berlin:20260421T173000
UID:VG2050771-20260421T163000@VHSLANDKREIS FULDA
SUMMARY:Choreographisches Tanzen  + / - 60 (VG2050771) 
LOCATION:Eichenzell; von-Galen-Schule, Gymnastikraum, Munkenstr. 16, 36124 Eichenzell
END:VEVENT
BEGIN:VEVENT
DTSTAMP:20260425T164532
DTSTART;TZID=Europe/Berlin:20260428T163000
DTEND;TZID=Europe/Berlin:20260428T173000
UID:VG2050771-20260428T163000@VHSLANDKREIS FULDA
SUMMARY:Choreographisches Tanzen  + / - 60 (VG2050771) 
LOCATION:Eichenzell; von-Galen-Schule, Gymnastikraum, Munkenstr. 16, 36124 Eichenzell
END:VEVENT
BEGIN:VEVENT
DTSTAMP:20260425T164532
DTSTART;TZID=Europe/Berlin:20260519T163000
DTEND;TZID=Europe/Berlin:20260519T173000
UID:VG2050771-20260519T163000@VHSLANDKREIS FULDA
SUMMARY:Choreographisches Tanzen  + / - 60 (VG2050771) 
LOCATION:Eichenzell; von-Galen-Schule, Gymnastikraum, Munkenstr. 16, 36124 Eichenzell
END:VEVENT
BEGIN:VEVENT
DTSTAMP:20260425T164532
DTSTART;TZID=Europe/Berlin:20260526T163000
DTEND;TZID=Europe/Berlin:20260526T173000
UID:VG2050771-20260526T163000@VHSLANDKREIS FULDA
SUMMARY:Choreographisches Tanzen  + / - 60 (VG2050771) 
LOCATION:Eichenzell; von-Galen-Schule, Gymnastikraum, Munkenstr. 16, 36124 Eichenzell
END:VEVENT
BEGIN:VEVENT
DTSTAMP:20260425T164532
DTSTART;TZID=Europe/Berlin:20260602T163000
DTEND;TZID=Europe/Berlin:20260602T173000
UID:VG2050771-20260602T163000@VHSLANDKREIS FULDA
SUMMARY:Choreographisches Tanzen  + / - 60 (VG2050771) 
LOCATION:Eichenzell; von-Galen-Schule, Gymnastikraum, Munkenstr. 16, 36124 Eichenzell
END:VEVENT
BEGIN:VEVENT
DTSTAMP:20260425T164532
DTSTART;TZID=Europe/Berlin:20260609T163000
DTEND;TZID=Europe/Berlin:20260609T173000
UID:VG2050771-20260609T163000@VHSLANDKREIS FULDA
SUMMARY:Choreographisches Tanzen  + / - 60 (VG2050771) 
LOCATION:Eichenzell; von-Galen-Schule, Gymnastikraum, Munkenstr. 16, 36124 Eichenzell
END:VEVENT
BEGIN:VEVENT
DTSTAMP:20260425T164532
DTSTART;TZID=Europe/Berlin:20260616T163000
DTEND;TZID=Europe/Berlin:20260616T173000
UID:VG2050771-20260616T163000@VHSLANDKREIS FULDA
SUMMARY:Choreographisches Tanzen  + / - 60 (VG2050771) 
LOCATION:Eichenzell; von-Galen-Schule, Gymnastikraum, Munkenstr. 16, 36124 Eichenzell
END:VEVENT
END:VCALENDAR