BEGIN:VCALENDAR
VERSION:2.0
PRODID:https://www.kufer.de/kuferweb / DE
METHOD:PUBLISH
CALSCALE:GREGORIAN
X-WR-TIMEZONE:Europe/Berlin
BEGIN:VTIMEZONE
TZID:Europe/Berlin
X-LIC-LOCATION:Europe/Berlin
BEGIN:DAYLIGHT
TZOFFSETFROM:+0100
TZOFFSETTO:+0200
TZNAME:CEST
DTSTART:19700329T020000
RRULE:FREQ=YEARLY;INTERVAL=1;BYDAY=-1SU;BYMONTH=3
END:DAYLIGHT
BEGIN:STANDARD
TZOFFSETFROM:+0200
TZOFFSETTO:+0100
TZNAME:CET
DTSTART:19701025T030000
RRULE:FREQ=YEARLY;INTERVAL=1;BYDAY=-1SU;BYMONTH=10
END:STANDARD
END:VTIMEZONE
BEGIN:VEVENT
DTSTAMP:20260424T155017
DTSTART;TZID=Europe/Berlin:20260422T193000
DTEND;TZID=Europe/Berlin:20260422T204500
UID:VG3010122-20260422T193000@VHSLANDKREIS FULDA
SUMMARY:Inside Yoga (VG3010122) 
LOCATION:Fulda; Eduard-Stieler-Campus, Raum "Ruhe und Entspannung", Brüder-Grimm-Str. 5, 36037 Fulda
END:VEVENT
BEGIN:VEVENT
DTSTAMP:20260424T155017
DTSTART;TZID=Europe/Berlin:20260506T193000
DTEND;TZID=Europe/Berlin:20260506T204500
UID:VG3010122-20260506T193000@VHSLANDKREIS FULDA
SUMMARY:Inside Yoga (VG3010122) 
LOCATION:Fulda; Eduard-Stieler-Campus, Raum "Ruhe und Entspannung", Brüder-Grimm-Str. 5, 36037 Fulda
END:VEVENT
BEGIN:VEVENT
DTSTAMP:20260424T155017
DTSTART;TZID=Europe/Berlin:20260513T193000
DTEND;TZID=Europe/Berlin:20260513T204500
UID:VG3010122-20260513T193000@VHSLANDKREIS FULDA
SUMMARY:Inside Yoga (VG3010122) 
LOCATION:Fulda; Eduard-Stieler-Campus, Raum "Ruhe und Entspannung", Brüder-Grimm-Str. 5, 36037 Fulda
END:VEVENT
BEGIN:VEVENT
DTSTAMP:20260424T155017
DTSTART;TZID=Europe/Berlin:20260520T193000
DTEND;TZID=Europe/Berlin:20260520T204500
UID:VG3010122-20260520T193000@VHSLANDKREIS FULDA
SUMMARY:Inside Yoga (VG3010122) 
LOCATION:Fulda; Eduard-Stieler-Campus, Raum "Ruhe und Entspannung", Brüder-Grimm-Str. 5, 36037 Fulda
END:VEVENT
BEGIN:VEVENT
DTSTAMP:20260424T155017
DTSTART;TZID=Europe/Berlin:20260527T193000
DTEND;TZID=Europe/Berlin:20260527T204500
UID:VG3010122-20260527T193000@VHSLANDKREIS FULDA
SUMMARY:Inside Yoga (VG3010122) 
LOCATION:Fulda; Eduard-Stieler-Campus, Raum "Ruhe und Entspannung", Brüder-Grimm-Str. 5, 36037 Fulda
END:VEVENT
BEGIN:VEVENT
DTSTAMP:20260424T155017
DTSTART;TZID=Europe/Berlin:20260603T193000
DTEND;TZID=Europe/Berlin:20260603T204500
UID:VG3010122-20260603T193000@VHSLANDKREIS FULDA
SUMMARY:Inside Yoga (VG3010122) 
LOCATION:Fulda; Eduard-Stieler-Campus, Raum "Ruhe und Entspannung", Brüder-Grimm-Str. 5, 36037 Fulda
END:VEVENT
BEGIN:VEVENT
DTSTAMP:20260424T155017
DTSTART;TZID=Europe/Berlin:20260610T193000
DTEND;TZID=Europe/Berlin:20260610T204500
UID:VG3010122-20260610T193000@VHSLANDKREIS FULDA
SUMMARY:Inside Yoga (VG3010122) 
LOCATION:Fulda; Eduard-Stieler-Campus, Raum "Ruhe und Entspannung", Brüder-Grimm-Str. 5, 36037 Fulda
END:VEVENT
BEGIN:VEVENT
DTSTAMP:20260424T155017
DTSTART;TZID=Europe/Berlin:20260617T193000
DTEND;TZID=Europe/Berlin:20260617T204500
UID:VG3010122-20260617T193000@VHSLANDKREIS FULDA
SUMMARY:Inside Yoga (VG3010122) 
LOCATION:Fulda; Eduard-Stieler-Campus, Raum "Ruhe und Entspannung", Brüder-Grimm-Str. 5, 36037 Fulda
END:VEVENT
END:VCALENDAR