BEGIN:VCALENDAR
VERSION:2.0
PRODID:https://www.kufer.de/kuferweb / DE
METHOD:PUBLISH
CALSCALE:GREGORIAN
X-WR-TIMEZONE:Europe/Berlin
BEGIN:VTIMEZONE
TZID:Europe/Berlin
X-LIC-LOCATION:Europe/Berlin
BEGIN:DAYLIGHT
TZOFFSETFROM:+0100
TZOFFSETTO:+0200
TZNAME:CEST
DTSTART:19700329T020000
RRULE:FREQ=YEARLY;INTERVAL=1;BYDAY=-1SU;BYMONTH=3
END:DAYLIGHT
BEGIN:STANDARD
TZOFFSETFROM:+0200
TZOFFSETTO:+0100
TZNAME:CET
DTSTART:19701025T030000
RRULE:FREQ=YEARLY;INTERVAL=1;BYDAY=-1SU;BYMONTH=10
END:STANDARD
END:VTIMEZONE
BEGIN:VEVENT
DTSTAMP:20260424T123019
DTSTART;TZID=Europe/Berlin:20260427T090000
DTEND;TZID=Europe/Berlin:20260427T100000
UID:VG3021443-20260427T090000@VHSLANDKREIS FULDA
SUMMARY:Bodyforming - Bauch, Beine, Po (ohne Vorkenntnisse) (VG3021443) 
LOCATION:Hofbieber-Langenbieber; DGH, Am Kalkwerk 3, Gemeinde Hofbieber
END:VEVENT
BEGIN:VEVENT
DTSTAMP:20260424T123019
DTSTART;TZID=Europe/Berlin:20260504T090000
DTEND;TZID=Europe/Berlin:20260504T100000
UID:VG3021443-20260504T090000@VHSLANDKREIS FULDA
SUMMARY:Bodyforming - Bauch, Beine, Po (ohne Vorkenntnisse) (VG3021443) 
LOCATION:Hofbieber-Langenbieber; DGH, Am Kalkwerk 3, Gemeinde Hofbieber
END:VEVENT
BEGIN:VEVENT
DTSTAMP:20260424T123019
DTSTART;TZID=Europe/Berlin:20260518T090000
DTEND;TZID=Europe/Berlin:20260518T100000
UID:VG3021443-20260518T090000@VHSLANDKREIS FULDA
SUMMARY:Bodyforming - Bauch, Beine, Po (ohne Vorkenntnisse) (VG3021443) 
LOCATION:Hofbieber-Langenbieber; DGH, Am Kalkwerk 3, Gemeinde Hofbieber
END:VEVENT
BEGIN:VEVENT
DTSTAMP:20260424T123019
DTSTART;TZID=Europe/Berlin:20260608T090000
DTEND;TZID=Europe/Berlin:20260608T100000
UID:VG3021443-20260608T090000@VHSLANDKREIS FULDA
SUMMARY:Bodyforming - Bauch, Beine, Po (ohne Vorkenntnisse) (VG3021443) 
LOCATION:Hofbieber-Langenbieber; DGH, Am Kalkwerk 3, Gemeinde Hofbieber
END:VEVENT
BEGIN:VEVENT
DTSTAMP:20260424T123019
DTSTART;TZID=Europe/Berlin:20260615T090000
DTEND;TZID=Europe/Berlin:20260615T100000
UID:VG3021443-20260615T090000@VHSLANDKREIS FULDA
SUMMARY:Bodyforming - Bauch, Beine, Po (ohne Vorkenntnisse) (VG3021443) 
LOCATION:Hofbieber-Langenbieber; DGH, Am Kalkwerk 3, Gemeinde Hofbieber
END:VEVENT
END:VCALENDAR