BEGIN:VCALENDAR
VERSION:2.0
PRODID:https://www.kufer.de/kuferweb / DE
METHOD:PUBLISH
CALSCALE:GREGORIAN
X-WR-TIMEZONE:Europe/Berlin
BEGIN:VTIMEZONE
TZID:Europe/Berlin
X-LIC-LOCATION:Europe/Berlin
BEGIN:DAYLIGHT
TZOFFSETFROM:+0100
TZOFFSETTO:+0200
TZNAME:CEST
DTSTART:19700329T020000
RRULE:FREQ=YEARLY;INTERVAL=1;BYDAY=-1SU;BYMONTH=3
END:DAYLIGHT
BEGIN:STANDARD
TZOFFSETFROM:+0200
TZOFFSETTO:+0100
TZNAME:CET
DTSTART:19701025T030000
RRULE:FREQ=YEARLY;INTERVAL=1;BYDAY=-1SU;BYMONTH=10
END:STANDARD
END:VTIMEZONE
BEGIN:VEVENT
DTSTAMP:20260425T182359
DTSTART;TZID=Europe/Berlin:20260520T094500
DTEND;TZID=Europe/Berlin:20260520T104500
UID:VG3021812-20260520T094500@VHSLANDKREIS FULDA
SUMMARY:Ganzkörpergymnastik, vorwiegend im Sitzen und Stehen, Schwerpunkt: Rücken und Beckenboden (VG3021812) 
LOCATION:Künzell-Wissels; DGH, Am Streich 6, 36093 Künzell
END:VEVENT
BEGIN:VEVENT
DTSTAMP:20260425T182359
DTSTART;TZID=Europe/Berlin:20260527T094500
DTEND;TZID=Europe/Berlin:20260527T104500
UID:VG3021812-20260527T094500@VHSLANDKREIS FULDA
SUMMARY:Ganzkörpergymnastik, vorwiegend im Sitzen und Stehen, Schwerpunkt: Rücken und Beckenboden (VG3021812) 
LOCATION:Künzell-Wissels; DGH, Am Streich 6, 36093 Künzell
END:VEVENT
BEGIN:VEVENT
DTSTAMP:20260425T182359
DTSTART;TZID=Europe/Berlin:20260603T094500
DTEND;TZID=Europe/Berlin:20260603T104500
UID:VG3021812-20260603T094500@VHSLANDKREIS FULDA
SUMMARY:Ganzkörpergymnastik, vorwiegend im Sitzen und Stehen, Schwerpunkt: Rücken und Beckenboden (VG3021812) 
LOCATION:Künzell-Wissels; DGH, Am Streich 6, 36093 Künzell
END:VEVENT
BEGIN:VEVENT
DTSTAMP:20260425T182359
DTSTART;TZID=Europe/Berlin:20260610T094500
DTEND;TZID=Europe/Berlin:20260610T104500
UID:VG3021812-20260610T094500@VHSLANDKREIS FULDA
SUMMARY:Ganzkörpergymnastik, vorwiegend im Sitzen und Stehen, Schwerpunkt: Rücken und Beckenboden (VG3021812) 
LOCATION:Künzell-Wissels; DGH, Am Streich 6, 36093 Künzell
END:VEVENT
BEGIN:VEVENT
DTSTAMP:20260425T182359
DTSTART;TZID=Europe/Berlin:20260617T094500
DTEND;TZID=Europe/Berlin:20260617T104500
UID:VG3021812-20260617T094500@VHSLANDKREIS FULDA
SUMMARY:Ganzkörpergymnastik, vorwiegend im Sitzen und Stehen, Schwerpunkt: Rücken und Beckenboden (VG3021812) 
LOCATION:Künzell-Wissels; DGH, Am Streich 6, 36093 Künzell
END:VEVENT
BEGIN:VEVENT
DTSTAMP:20260425T182359
DTSTART;TZID=Europe/Berlin:20260624T094500
DTEND;TZID=Europe/Berlin:20260624T104500
UID:VG3021812-20260624T094500@VHSLANDKREIS FULDA
SUMMARY:Ganzkörpergymnastik, vorwiegend im Sitzen und Stehen, Schwerpunkt: Rücken und Beckenboden (VG3021812) 
LOCATION:Künzell-Wissels; DGH, Am Streich 6, 36093 Künzell
END:VEVENT
BEGIN:VEVENT
DTSTAMP:20260425T182359
DTSTART;TZID=Europe/Berlin:20260701T094500
DTEND;TZID=Europe/Berlin:20260701T104500
UID:VG3021812-20260701T094500@VHSLANDKREIS FULDA
SUMMARY:Ganzkörpergymnastik, vorwiegend im Sitzen und Stehen, Schwerpunkt: Rücken und Beckenboden (VG3021812) 
LOCATION:Künzell-Wissels; DGH, Am Streich 6, 36093 Künzell
END:VEVENT
BEGIN:VEVENT
DTSTAMP:20260425T182359
DTSTART;TZID=Europe/Berlin:20260708T094500
DTEND;TZID=Europe/Berlin:20260708T104500
UID:VG3021812-20260708T094500@VHSLANDKREIS FULDA
SUMMARY:Ganzkörpergymnastik, vorwiegend im Sitzen und Stehen, Schwerpunkt: Rücken und Beckenboden (VG3021812) 
LOCATION:Künzell-Wissels; DGH, Am Streich 6, 36093 Künzell
END:VEVENT
BEGIN:VEVENT
DTSTAMP:20260425T182359
DTSTART;TZID=Europe/Berlin:20260729T094500
DTEND;TZID=Europe/Berlin:20260729T104500
UID:VG3021812-20260729T094500@VHSLANDKREIS FULDA
SUMMARY:Ganzkörpergymnastik, vorwiegend im Sitzen und Stehen, Schwerpunkt: Rücken und Beckenboden (VG3021812) 
LOCATION:Künzell-Wissels; DGH, Am Streich 6, 36093 Künzell
END:VEVENT
BEGIN:VEVENT
DTSTAMP:20260425T182359
DTSTART;TZID=Europe/Berlin:20260805T094500
DTEND;TZID=Europe/Berlin:20260805T104500
UID:VG3021812-20260805T094500@VHSLANDKREIS FULDA
SUMMARY:Ganzkörpergymnastik, vorwiegend im Sitzen und Stehen, Schwerpunkt: Rücken und Beckenboden (VG3021812) 
LOCATION:Künzell-Wissels; DGH, Am Streich 6, 36093 Künzell
END:VEVENT
BEGIN:VEVENT
DTSTAMP:20260425T182359
DTSTART;TZID=Europe/Berlin:20260812T094500
DTEND;TZID=Europe/Berlin:20260812T104500
UID:VG3021812-20260812T094500@VHSLANDKREIS FULDA
SUMMARY:Ganzkörpergymnastik, vorwiegend im Sitzen und Stehen, Schwerpunkt: Rücken und Beckenboden (VG3021812) 
LOCATION:Künzell-Wissels; DGH, Am Streich 6, 36093 Künzell
END:VEVENT
BEGIN:VEVENT
DTSTAMP:20260425T182359
DTSTART;TZID=Europe/Berlin:20260819T094500
DTEND;TZID=Europe/Berlin:20260819T104500
UID:VG3021812-20260819T094500@VHSLANDKREIS FULDA
SUMMARY:Ganzkörpergymnastik, vorwiegend im Sitzen und Stehen, Schwerpunkt: Rücken und Beckenboden (VG3021812) 
LOCATION:Künzell-Wissels; DGH, Am Streich 6, 36093 Künzell
END:VEVENT
BEGIN:VEVENT
DTSTAMP:20260425T182359
DTSTART;TZID=Europe/Berlin:20260826T094500
DTEND;TZID=Europe/Berlin:20260826T104500
UID:VG3021812-20260826T094500@VHSLANDKREIS FULDA
SUMMARY:Ganzkörpergymnastik, vorwiegend im Sitzen und Stehen, Schwerpunkt: Rücken und Beckenboden (VG3021812) 
LOCATION:Künzell-Wissels; DGH, Am Streich 6, 36093 Künzell
END:VEVENT
END:VCALENDAR